BEGIN:VCALENDAR
VERSION:2.0
PRODID:-//UTS Esports - ECPv5.3.2.1//NONSGML v1.0//EN
CALSCALE:GREGORIAN
METHOD:PUBLISH
X-WR-CALNAME:UTS Esports
X-ORIGINAL-URL:https://www.utsesports.com.au
X-WR-CALDESC:Events for UTS Esports
BEGIN:VTIMEZONE
TZID:UTC
BEGIN:STANDARD
TZOFFSETFROM:+0000
TZOFFSETTO:+0000
TZNAME:UTC
DTSTART:20210101T000000
END:STANDARD
END:VTIMEZONE
BEGIN:VEVENT
DTSTART;TZID=UTC:20210312T140000
DTEND;TZID=UTC:20210312T170000
DTSTAMP:20210227T123311
CREATED:20210222T002249Z
LAST-MODIFIED:20210226T003043Z
UID:1317-1615557600-1615568400@www.utsesports.com.au
SUMMARY:Welcome Event
DESCRIPTION:We will be holding our annual Welcome Event on the first week of University. \nThis will be an excellent opportunity to meet your fellow UTS Esports Members\, kick back and find out what our club is all about. \n\nWe will have our executive team on the day to answer any questions you might have.\nWe will provide you with the opportunity to provide us with any suggestions you would like from the Club\nWe will provide food and drinks\nWe will be outlining in details what events to expect from the club in 2021\n+ Many More\n\nMore details to be announced shortly\, so please keep an eye out on our discord and socials. 
URL:https://www.utsesports.com.au/event/welcome-event/
LOCATION:UTS\, 15 Broadway\, Ultimo NSW 2007\, Sydney\, New South Wales\, 2007\, Australia
CATEGORIES:Social
ATTACH;FMTTYPE=image/png:https://www.utsesports.com.au/wp-content/uploads/2021/02/Artboard-Copy-18.png
ORGANIZER;CN="UTS%20Esports":MAILTO:info@utsesports.com.au
END:VEVENT
END:VCALENDAR